BEGIN:VCALENDAR
VERSION:2.0
PRODID:-//Arlington Children&#039;s Center - ECPv6.15.20//NONSGML v1.0//EN
CALSCALE:GREGORIAN
METHOD:PUBLISH
X-WR-CALNAME:Arlington Children&#039;s Center
X-ORIGINAL-URL:https://arlingtonchildrenscenter.org
X-WR-CALDESC:Events for Arlington Children&#039;s Center
REFRESH-INTERVAL;VALUE=DURATION:PT1H
X-Robots-Tag:noindex
X-PUBLISHED-TTL:PT1H
BEGIN:VTIMEZONE
TZID:America/New_York
BEGIN:DAYLIGHT
TZOFFSETFROM:-0500
TZOFFSETTO:-0400
TZNAME:EDT
DTSTART:20250309T070000
END:DAYLIGHT
BEGIN:STANDARD
TZOFFSETFROM:-0400
TZOFFSETTO:-0500
TZNAME:EST
DTSTART:20251102T060000
END:STANDARD
BEGIN:DAYLIGHT
TZOFFSETFROM:-0500
TZOFFSETTO:-0400
TZNAME:EDT
DTSTART:20260308T070000
END:DAYLIGHT
BEGIN:STANDARD
TZOFFSETFROM:-0400
TZOFFSETTO:-0500
TZNAME:EST
DTSTART:20261101T060000
END:STANDARD
BEGIN:DAYLIGHT
TZOFFSETFROM:-0500
TZOFFSETTO:-0400
TZNAME:EDT
DTSTART:20270314T070000
END:DAYLIGHT
BEGIN:STANDARD
TZOFFSETFROM:-0400
TZOFFSETTO:-0500
TZNAME:EST
DTSTART:20271107T060000
END:STANDARD
END:VTIMEZONE
BEGIN:VEVENT
DTSTART;TZID=America/New_York:20260901T080000
DTEND;TZID=America/New_York:20260901T150000
DTSTAMP:20260423T183122
CREATED:20251212T210456Z
LAST-MODIFIED:20251217T125146Z
UID:620-1788249600-1788274800@arlingtonchildrenscenter.org
SUMMARY:Last Day of School Year\, ACC Closes at 3:00pm
DESCRIPTION:
URL:https://arlingtonchildrenscenter.org/event/last-day-of-school-year-acc-closes-at-300pm/
END:VEVENT
END:VCALENDAR